BEGIN:VCALENDAR
VERSION:2.0
PRODID:-//Flowers from the Farm - ECPv6.15.18//NONSGML v1.0//EN
CALSCALE:GREGORIAN
METHOD:PUBLISH
X-WR-CALNAME:Flowers from the Farm
X-ORIGINAL-URL:https://flowersfromthefarm.co.uk
X-WR-CALDESC:Events for Flowers from the Farm
REFRESH-INTERVAL;VALUE=DURATION:PT1H
X-Robots-Tag:noindex
X-PUBLISHED-TTL:PT1H
BEGIN:VTIMEZONE
TZID:Europe/London
BEGIN:DAYLIGHT
TZOFFSETFROM:+0000
TZOFFSETTO:+0100
TZNAME:BST
DTSTART:20250330T010000
END:DAYLIGHT
BEGIN:STANDARD
TZOFFSETFROM:+0100
TZOFFSETTO:+0000
TZNAME:GMT
DTSTART:20251026T010000
END:STANDARD
BEGIN:DAYLIGHT
TZOFFSETFROM:+0000
TZOFFSETTO:+0100
TZNAME:BST
DTSTART:20260329T010000
END:DAYLIGHT
BEGIN:STANDARD
TZOFFSETFROM:+0100
TZOFFSETTO:+0000
TZNAME:GMT
DTSTART:20261025T010000
END:STANDARD
BEGIN:DAYLIGHT
TZOFFSETFROM:+0000
TZOFFSETTO:+0100
TZNAME:BST
DTSTART:20270328T010000
END:DAYLIGHT
BEGIN:STANDARD
TZOFFSETFROM:+0100
TZOFFSETTO:+0000
TZNAME:GMT
DTSTART:20271031T010000
END:STANDARD
END:VTIMEZONE
BEGIN:VEVENT
DTSTART;TZID=Europe/London:20260620T110000
DTEND;TZID=Europe/London:20260620T150000
DTSTAMP:20260420T155900
CREATED:20260420T075736Z
LAST-MODIFIED:20260420T075736Z
UID:39295-1781953200-1781967600@flowersfromthefarm.co.uk
SUMMARY:Charity Open Day in celebration of British Flowers Week 2026
DESCRIPTION:To celebrate British Flowers Week we warmly welcome you to our growing space for our annual charity open day on Saturday 20th June 2026.\nThis will be a charity event raising funds for a very local\, community-based\, multi-generational\, educational project with the focus on nature. This project is trying to get off the ground and is located just a few minutes walk away from us at Ringsfield Hall (kindaeducation.org.uk). \nSuggested charity donation per person £5 but any donation at all would be gratefuly received. \nOpportunity to buy flowers and plants\, have a wander about and see what we do and how we use our space to grow our flowers and foliage. \nRefreshments available for a small charge. \nParking on site – follow signs. \nThis is a working farm\, so please take care with uneven ground etc. Sturdy shoes/boots advised. \nCost: Suggested charity donation £5 \nHow to Book: Get in touch for more details info@yellowleyflowers.co.uk
URL:https://flowersfromthefarm.co.uk/event/charity-open-day-in-celebration-of-british-flowers-week-2026/
LOCATION:Yellow Ley Farm Hall Road Barsham\, Suffolk NR348JN\, Yellow Ley Farm\, Hall Road Barsham\, Suffolk\, NR348JN
ATTACH;FMTTYPE=image/png:https://flowersfromthefarm.co.uk/wp-content/uploads/2026/04/YLF-LOGO-SET-a1-BLUE-YELLOW-TRANSPARENT-scaled.png
ORGANIZER;CN="Yellow Ley Flowers":MAILTO:info@yellowleyflowers.co.uk
GEO:52.4458747;1.5218904
X-APPLE-STRUCTURED-LOCATION;VALUE=URI;X-ADDRESS=Yellow Ley Farm Hall Road Barsham Suffolk NR348JN Yellow Ley Farm Hall Road Barsham Suffolk NR348JN;X-APPLE-RADIUS=500;X-TITLE=Yellow Ley Farm:geo:1.5218904,52.4458747
END:VEVENT
END:VCALENDAR