BEGIN:VCALENDAR
VERSION:2.0
PRODID:-//Flowers from the Farm - ECPv6.15.18//NONSGML v1.0//EN
CALSCALE:GREGORIAN
METHOD:PUBLISH
X-WR-CALNAME:Flowers from the Farm
X-ORIGINAL-URL:https://flowersfromthefarm.co.uk
X-WR-CALDESC:Events for Flowers from the Farm
REFRESH-INTERVAL;VALUE=DURATION:PT1H
X-Robots-Tag:noindex
X-PUBLISHED-TTL:PT1H
BEGIN:VTIMEZONE
TZID:Europe/London
BEGIN:DAYLIGHT
TZOFFSETFROM:+0000
TZOFFSETTO:+0100
TZNAME:BST
DTSTART:20250330T010000
END:DAYLIGHT
BEGIN:STANDARD
TZOFFSETFROM:+0100
TZOFFSETTO:+0000
TZNAME:GMT
DTSTART:20251026T010000
END:STANDARD
BEGIN:DAYLIGHT
TZOFFSETFROM:+0000
TZOFFSETTO:+0100
TZNAME:BST
DTSTART:20260329T010000
END:DAYLIGHT
BEGIN:STANDARD
TZOFFSETFROM:+0100
TZOFFSETTO:+0000
TZNAME:GMT
DTSTART:20261025T010000
END:STANDARD
BEGIN:DAYLIGHT
TZOFFSETFROM:+0000
TZOFFSETTO:+0100
TZNAME:BST
DTSTART:20270328T010000
END:DAYLIGHT
BEGIN:STANDARD
TZOFFSETFROM:+0100
TZOFFSETTO:+0000
TZNAME:GMT
DTSTART:20271031T010000
END:STANDARD
END:VTIMEZONE
BEGIN:VEVENT
DTSTART;TZID=Europe/London:20260517T120000
DTEND;TZID=Europe/London:20260517T170000
DTSTAMP:20260420T173512
CREATED:20260420T080437Z
LAST-MODIFIED:20260420T080437Z
UID:39302-1779019200-1779037200@flowersfromthefarm.co.uk
SUMMARY:Ham Open Gardens
DESCRIPTION:We are proud to be taking part in Ham Open Gardens\, the very first time a flower farm has been included! The ticket cost includes entrance to Ham’s Harvest micro flower farm and many beautiful private gardens in Ham\, Richmond. Come and see how we are making a difference in our community\, what our plans are and what we are growing\, buy some plants and enjoy walking around this lovely village\, a short bus ride from Richmond Town Centre. \nCost: Website £12\, on the day £15 under 16 free \nHow to Book: Vis the website here or on Ham Common on the day.
URL:https://flowersfromthefarm.co.uk/event/ham-open-gardens/
LOCATION:St Richard’s School Woodville Road Ham\, Richmond Surrey TW10\, St Richard’s School\, Woodville Road Ham\, Richmond Surrey\, TW10\, United Kingdom
ATTACH;FMTTYPE=image/png:https://flowersfromthefarm.co.uk/wp-content/uploads/2026/04/6D96CA8F-477A-4AE4-A9EE-2FA3200779DB.png
ORGANIZER;CN="Hams Harvest CIC":MAILTO:julie.reynolds68@hotmail.co.uk
GEO:51.4384044;-0.3173849
X-APPLE-STRUCTURED-LOCATION;VALUE=URI;X-ADDRESS=St Richard’s School Woodville Road Ham Richmond Surrey TW10 St Richard’s School Woodville Road Ham Richmond Surrey TW10 United Kingdom;X-APPLE-RADIUS=500;X-TITLE=St Richard’s School:geo:-0.3173849,51.4384044
END:VEVENT
END:VCALENDAR