BEGIN:VCALENDAR
VERSION:2.0
PRODID:-//Flowers from the Farm - ECPv6.15.18//NONSGML v1.0//EN
CALSCALE:GREGORIAN
METHOD:PUBLISH
X-ORIGINAL-URL:https://flowersfromthefarm.co.uk
X-WR-CALDESC:Events for Flowers from the Farm
REFRESH-INTERVAL;VALUE=DURATION:PT1H
X-Robots-Tag:noindex
X-PUBLISHED-TTL:PT1H
BEGIN:VTIMEZONE
TZID:Europe/London
BEGIN:DAYLIGHT
TZOFFSETFROM:+0000
TZOFFSETTO:+0100
TZNAME:BST
DTSTART:20240331T010000
END:DAYLIGHT
BEGIN:STANDARD
TZOFFSETFROM:+0100
TZOFFSETTO:+0000
TZNAME:GMT
DTSTART:20241027T010000
END:STANDARD
BEGIN:DAYLIGHT
TZOFFSETFROM:+0000
TZOFFSETTO:+0100
TZNAME:BST
DTSTART:20250330T010000
END:DAYLIGHT
BEGIN:STANDARD
TZOFFSETFROM:+0100
TZOFFSETTO:+0000
TZNAME:GMT
DTSTART:20251026T010000
END:STANDARD
BEGIN:DAYLIGHT
TZOFFSETFROM:+0000
TZOFFSETTO:+0100
TZNAME:BST
DTSTART:20260329T010000
END:DAYLIGHT
BEGIN:STANDARD
TZOFFSETFROM:+0100
TZOFFSETTO:+0000
TZNAME:GMT
DTSTART:20261025T010000
END:STANDARD
END:VTIMEZONE
BEGIN:VEVENT
DTSTART;TZID=Europe/London:20250713T150000
DTEND;TZID=Europe/London:20250713T170000
DTSTAMP:20260419T152543
CREATED:20250515T154021Z
LAST-MODIFIED:20250515T154021Z
UID:34991-1752418800-1752426000@flowersfromthefarm.co.uk
SUMMARY:From Garden to Vase
DESCRIPTION:  \nYou have the opportunity to wander the garden picking a variety of flowers and foliage of your choice. I will demonstrate how to make a hand tied bouquet to fit the vase provided and will be available to assist you as you make your own with some refreshments along the way. The flowers and vase are yours to take home at the end of the workshop.
URL:https://flowersfromthefarm.co.uk/event/from-garden-to-vase/
LOCATION:Flowers By Anna Brian\, Sandal Lodge\, Hanbury Road\,\, Droitwich\, Worcestershire\, WR9 7DX\, United Kingdom
CATEGORIES:Floristry
ATTACH;FMTTYPE=image/jpeg:https://flowersfromthefarm.co.uk/wp-content/uploads/2025/05/GadrentoVaseIMG_20191230_123821_845-002-scaled.jpg
ORGANIZER;CN="Flowers By Anna Brian":MAILTO:Anna@flowersbyannabrian.co.uk 
GEO:52.2661696;-2.1294876
X-APPLE-STRUCTURED-LOCATION;VALUE=URI;X-ADDRESS=Flowers By Anna Brian Sandal Lodge Hanbury Road Droitwich Worcestershire WR9 7DX United Kingdom;X-APPLE-RADIUS=500;X-TITLE=Sandal Lodge\, Hanbury Road\,:geo:-2.1294876,52.2661696
END:VEVENT
END:VCALENDAR