BEGIN:VCALENDAR
VERSION:2.0
PRODID:-//Flowers from the Farm - ECPv6.15.18//NONSGML v1.0//EN
CALSCALE:GREGORIAN
METHOD:PUBLISH
X-ORIGINAL-URL:https://flowersfromthefarm.co.uk
X-WR-CALDESC:Events for Flowers from the Farm
REFRESH-INTERVAL;VALUE=DURATION:PT1H
X-Robots-Tag:noindex
X-PUBLISHED-TTL:PT1H
BEGIN:VTIMEZONE
TZID:Europe/London
BEGIN:DAYLIGHT
TZOFFSETFROM:+0000
TZOFFSETTO:+0100
TZNAME:BST
DTSTART:20240331T010000
END:DAYLIGHT
BEGIN:STANDARD
TZOFFSETFROM:+0100
TZOFFSETTO:+0000
TZNAME:GMT
DTSTART:20241027T010000
END:STANDARD
BEGIN:DAYLIGHT
TZOFFSETFROM:+0000
TZOFFSETTO:+0100
TZNAME:BST
DTSTART:20250330T010000
END:DAYLIGHT
BEGIN:STANDARD
TZOFFSETFROM:+0100
TZOFFSETTO:+0000
TZNAME:GMT
DTSTART:20251026T010000
END:STANDARD
BEGIN:DAYLIGHT
TZOFFSETFROM:+0000
TZOFFSETTO:+0100
TZNAME:BST
DTSTART:20260329T010000
END:DAYLIGHT
BEGIN:STANDARD
TZOFFSETFROM:+0100
TZOFFSETTO:+0000
TZNAME:GMT
DTSTART:20261025T010000
END:STANDARD
END:VTIMEZONE
BEGIN:VEVENT
DTSTART;TZID=Europe/London:20250615T140000
DTEND;TZID=Europe/London:20250615T163000
DTSTAMP:20260419T195008
CREATED:20250121T172158Z
LAST-MODIFIED:20250121T172158Z
UID:33789-1749996000-1750005000@flowersfromthefarm.co.uk
SUMMARY:'Arrange A Vase' Afternoon
DESCRIPTION:Come & enjoy a relaxing afternoon at a Flower Farm & create a unique arrangement in a favourite vase\, using fresh\, locally grown flowers. \nWhat you’ll do;\n• Take a short tour of the Flower Farm to see what’s blooming\n• Settle down with a cuppa while Rosie gives a short demo & explains the simple floral techniques involved (all sustainable & without floral foam/cellophane)\n• Learn tips on how to cut & prepare flowers for longest life in your vase\n• Dive straight in\, choose your flowers & create a floral masterpiece in your own unique style!\n• Then proudly take home your bouquet to display & enjoy\nThis fun & hands-on afternoon is suitable for all & no experience of floristry is necessary. Simply love flowers & arranging them to please yourself in good company. \nAll materials & light refreshments included. The necessary tools will be available to borrow. Just bring an apron to protect clothing & gloves if you wish.
URL:https://flowersfromthefarm.co.uk/event/arrange-a-vase-afternoon/
LOCATION:Galloway Flowers\, Craig Lodge\, Balmaclellan\,\, Castle Douglas\, Dumfries & Galloway\, DG7 3QR\, United Kingdom
CATEGORIES:Floristry
ATTACH;FMTTYPE=image/jpeg:https://flowersfromthefarm.co.uk/wp-content/uploads/2025/01/Arrangeavasejune1-small-002.jpg
ORGANIZER;CN="Rosie Gray":MAILTO:hello@gallowayflowers.co.uk
GEO:55.056603;-4.0656416
X-APPLE-STRUCTURED-LOCATION;VALUE=URI;X-ADDRESS=Galloway Flowers Craig Lodge Balmaclellan Castle Douglas Dumfries & Galloway DG7 3QR United Kingdom;X-APPLE-RADIUS=500;X-TITLE=Craig Lodge\, Balmaclellan\,:geo:-4.0656416,55.056603
END:VEVENT
BEGIN:VEVENT
DTSTART;TZID=Europe/London:20250617T173000
DTEND;TZID=Europe/London:20250617T190000
DTSTAMP:20260419T195008
CREATED:20250516T095656Z
LAST-MODIFIED:20250516T095656Z
UID:35017-1750181400-1750186800@flowersfromthefarm.co.uk
SUMMARY:A tour\, tipple & a posy to celebrate British Flowers Week
DESCRIPTION:Come and join me on Tuesday 17th June 2025 for an early evening stroll around my flower field with a glass of fizz and pick your own flowers to make a small posy to take home with you. Come and hear how “Kats Cut Flowers” started and learn more about the history of Sherridge and the Norbury Family.
URL:https://flowersfromthefarm.co.uk/event/a-tour-tipple-a-posy-to-celebrate-british-flowers-week/
LOCATION:Gloucestershire
CATEGORIES:British Flowers Week,Floristry,Leisure/Craft
ATTACH;FMTTYPE=image/jpeg:https://flowersfromthefarm.co.uk/wp-content/uploads/2025/05/KatBFW.jpg
ORGANIZER;CN="Kat Norbury":MAILTO:kat@katscutflowers.co.uk
END:VEVENT
BEGIN:VEVENT
DTSTART;TZID=Europe/London:20250628T140000
DTEND;TZID=Europe/London:20250628T160000
DTSTAMP:20260419T195008
CREATED:20250516T083756Z
LAST-MODIFIED:20250516T083756Z
UID:35013-1751119200-1751126400@flowersfromthefarm.co.uk
SUMMARY:Flower Crown Workshop
DESCRIPTION:Please book via the website https://hydeflowercompany.co.uk/book-here/ola/services/flower-crown#4f083669-aeb9-476a-a26e-d928ab34cb71\nEmail or call if you have any questions at all.
URL:https://flowersfromthefarm.co.uk/event/flower-crown-workshop/
LOCATION:Hyde Flower Company\, Hedge Corner Hyde Fordingbridge\,\, Hants\, SP6 2QB
CATEGORIES:Floristry,Leisure/Craft
ATTACH;FMTTYPE=image/png:https://flowersfromthefarm.co.uk/wp-content/uploads/2025/05/Hyde-Flowers-IMG_2025-05-10-003526-002.png
ORGANIZER;CN="Caroline Howells":MAILTO:hydeflowerco@yahoo.com
GEO:50.9086413;-1.7602252
X-APPLE-STRUCTURED-LOCATION;VALUE=URI;X-ADDRESS=Hyde Flower Company Hedge Corner Hyde Fordingbridge Hants SP6 2QB;X-APPLE-RADIUS=500;X-TITLE=Hedge Corner Hyde Fordingbridge\,:geo:-1.7602252,50.9086413
END:VEVENT
END:VCALENDAR